BEGIN:VCALENDAR
VERSION:2.0
PRODID:-//Villago - turismo esperienziale
CALSCALE:GREGORIAN
METHOD:PUBLISH
X-WR-CALNAME:Villago - turismo esperienziale
X-ORIGINAL-URL:https://villago.it/product/villa-pusterla-ca-grande-di-zibido-san-giacomo-mi-una-delle-piu-belle-magioni-di-fine-400-in-un-prestigioso-caseificio-ottocentesco-2-2-2/
X-WR-CALDESC:VILLA PUSTERLA CA’ GRANDE DI ZIBIDO SAN GIACOMO (MI), UNA DELLE PIU’ BELLE MAGIONI DI FINE ‘400 IN UN PRESTIGIOSO CASEIFICIO OTTOCENTESCO
BEGIN:VTIMEZONE
TZID:Europe/Helsinki
END:VTIMEZONE
BEGIN:VEVENT
DTSTART;TZID=Europe/Helsinki:20260614T153000
DTEND;TZID=Europe/Helsinki:20260614T173000
DTSTAMP:20260425T121040
UID:38581-info@villago.it
SUMMARY:VILLA PUSTERLA CA’ GRANDE DI ZIBIDO SAN GIACOMO (MI), UNA DELLE PIU’ BELLE MAGIONI DI FINE ‘400 IN UN PRESTIGIOSO CASEIFICIO OTTOCENTESCO
DESCRIPTION:PRENOTAZIONE OBBLIGATORIA ENTRO VENERDI' 12 GIUGNO ORE 16
URL:https://villago.it/product/villa-pusterla-ca-grande-di-zibido-san-giacomo-mi-una-delle-piu-belle-magioni-di-fine-400-in-un-prestigioso-caseificio-ottocentesco-2-2-2/
LOCATION:Via S.Giacomo 15, Zibido S.Giacomo (MI)
END:VEVENT
END:VCALENDAR
