BEGIN:VCALENDAR
VERSION:2.0
PRODID:-//Villago - turismo esperienziale
CALSCALE:GREGORIAN
METHOD:PUBLISH
X-WR-CALNAME:Villago - turismo esperienziale
X-ORIGINAL-URL:https://villago.it/product/villa-verri-mirabello-di-lentate-sul-seveso-mb-la-dimora-settecentesca-di-unilluminata-famiglia-di-illuministi-4-2-2-2-2-2-2-2-2-2-2-2-2/
X-WR-CALDESC:VILLA VERRI MIRABELLO DI LENTATE SUL SEVESO (MB), LA DIMORA SETTECENTESCA DI &#8220;UN&#8217;ILLUMINATA FAMIGLIA DI ILLUMINISTI&#8221;
BEGIN:VTIMEZONE
TZID:Europe/Helsinki
END:VTIMEZONE
BEGIN:VEVENT
DTSTART;TZID=Europe/Helsinki:20260602T153000
DTEND;TZID=Europe/Helsinki:20260602T170000
DTSTAMP:20260425T121042
UID:38572-info@villago.it
SUMMARY:VILLA VERRI MIRABELLO DI LENTATE SUL SEVESO (MB), LA DIMORA SETTECENTESCA DI “UN’ILLUMINATA FAMIGLIA DI ILLUMINISTI”
DESCRIPTION:PRENOTAZIONE OBBLIGATORIA ENTRO DOMENICA 31 MAGGIO ORE 16
URL:https://villago.it/product/villa-verri-mirabello-di-lentate-sul-seveso-mb-la-dimora-settecentesca-di-unilluminata-famiglia-di-illuministi-4-2-2-2-2-2-2-2-2-2-2-2-2/
LOCATION:Ritrovo: parcheggio di Via Manzoni, 53, Lentate sul Seveso (MB) 
END:VEVENT
END:VCALENDAR
