BEGIN:VCALENDAR
VERSION:2.0
PRODID:-//Villago - turismo esperienziale
CALSCALE:GREGORIAN
METHOD:PUBLISH
X-WR-CALNAME:Villago - turismo esperienziale
X-ORIGINAL-URL:https://villago.it/product/villa-banfi-di-vimercate-una-preziosa-dimora-privata-con-affreschi-del-trecento-2-2-2-2-2/
X-WR-CALDESC:VILLA BANFI DI VIMERCATE, UNA PREZIOSA DIMORA PRIVATA CON AFFRESCHI DEL TRECENTO!
BEGIN:VTIMEZONE
TZID:Europe/Helsinki
END:VTIMEZONE
BEGIN:VEVENT
DTSTART;TZID=Europe/Helsinki:20260501T153000
DTEND;TZID=Europe/Helsinki:20260501T164500
DTSTAMP:20260425T215028
UID:38571-info@villago.it
SUMMARY:VILLA BANFI DI VIMERCATE, UNA PREZIOSA DIMORA PRIVATA CON AFFRESCHI DEL TRECENTO!
DESCRIPTION:PRENOTAZIONE OBBLIGATORIA ENTRO GIOVEDI' 30 APRILE ORE 16
URL:https://villago.it/product/villa-banfi-di-vimercate-una-preziosa-dimora-privata-con-affreschi-del-trecento-2-2-2-2-2/
LOCATION:Ritrovo all'ingresso della Villa in Via Emilio Cereda 13 Vimercate (MB)
END:VEVENT
END:VCALENDAR
