BEGIN:VCALENDAR
VERSION:2.0
PRODID:-//Villago - turismo esperienziale
CALSCALE:GREGORIAN
METHOD:PUBLISH
X-WR-CALNAME:Villago - turismo esperienziale
X-ORIGINAL-URL:https://villago.it/?post_type=product&p=38558
X-WR-CALDESC:Privato: VILLA BRUSATI DI BARLASSINA, LA BELLA DIMORA DI CAMPIONI OLIMPIONICI, DI FAMOSI CANZONIERI E REGISTI&#8230;
BEGIN:VTIMEZONE
TZID:Europe/Helsinki
END:VTIMEZONE
BEGIN:VEVENT
DTSTART;TZID=Europe/Helsinki:20260501T153000
DTEND;TZID=Europe/Helsinki:20260501T164500
DTSTAMP:20260424T120732
UID:38558-info@villago.it
SUMMARY:Privato: VILLA BRUSATI DI BARLASSINA, LA BELLA DIMORA DI CAMPIONI OLIMPIONICI, DI FAMOSI CANZONIERI E REGISTI…
DESCRIPTION:PRENOTAZIONE OBBLIGATORIA ENTRO GIOVEDI' 30 APRILE ORE 16
URL:https://villago.it/?post_type=product&p=38558
LOCATION:Barlassina Corso Milano 65
END:VEVENT
END:VCALENDAR
