BEGIN:VCALENDAR
VERSION:2.0
PRODID:-//Villago - turismo esperienziale
CALSCALE:GREGORIAN
METHOD:PUBLISH
X-WR-CALNAME:Villago - turismo esperienziale
X-ORIGINAL-URL:https://villago.it/product/il-pleasure-garden-a-villa-carcano-di-anzano-del-parco-2-2-2/
X-WR-CALDESC:IL &#8220;PLEASURE GARDEN&#8221; A VILLA CARCANO DI ANZANO DEL PARCO: VISITE, GIOCHI STORICI E MEDITAZIONE
BEGIN:VTIMEZONE
TZID:Europe/Helsinki
END:VTIMEZONE
BEGIN:VEVENT
DTSTART;TZID=Europe/Helsinki:20260501T150000
DTEND;TZID=Europe/Helsinki:20260501T164500
DTSTAMP:20260424T120714
UID:38555-info@villago.it
SUMMARY:IL “PLEASURE GARDEN” A VILLA CARCANO DI ANZANO DEL PARCO: VISITE, GIOCHI STORICI E MEDITAZIONE
DESCRIPTION:PRENOTAZIONE OBBLIGATORIA ENTRO GIOVEDI' 30 APRILE ORE 16
URL:https://villago.it/product/il-pleasure-garden-a-villa-carcano-di-anzano-del-parco-2-2-2/
LOCATION:Anzano del Parco Via Piave 4
END:VEVENT
END:VCALENDAR
