BEGIN:VCALENDAR
VERSION:2.0
PRODID:-//Villago - turismo esperienziale
CALSCALE:GREGORIAN
METHOD:PUBLISH
X-WR-CALNAME:Villago - turismo esperienziale
X-ORIGINAL-URL:https://villago.it/product/lautunno-sull-isola-dei-cipressi-del-lago-di-pusiano-co-2-2-2/
X-WR-CALDESC:L&#8217;ESTATE SULL&#8217; ISOLA DEI CIPRESSI DEL LAGO DI PUSIANO (CO), SULL&#8217;ISOLOTTO E NON SOLO L&#8217;ISOLOTTO, DEGLI SVAGHI DEL FIGLIOCCIO DI NAPOLEONE
BEGIN:VTIMEZONE
TZID:Europe/Helsinki
END:VTIMEZONE
BEGIN:VEVENT
DTSTART;TZID=Europe/Helsinki:20260718T150000
DTEND;TZID=Europe/Helsinki:20260718T170000
DTSTAMP:20260422T043414
UID:38537-info@villago.it
SUMMARY:L’ESTATE SULL’ ISOLA DEI CIPRESSI DEL LAGO DI PUSIANO (CO), SULL’ISOLOTTO E NON SOLO L’ISOLOTTO, DEGLI SVAGHI DEL FIGLIOCCIO DI NAPOLEONE
DESCRIPTION:L’elegante isola millenaria: dalle palafitte alle dependance dei Viceré d’Italia PRENOTAZIONE OBBLIGATORIA ENTRO GIOVEDI' 16 LUGLIO ORE 16
URL:https://villago.it/product/lautunno-sull-isola-dei-cipressi-del-lago-di-pusiano-co-2-2-2/
LOCATION:Ritrovo presso area Parco Precampel di Bosisio Parini, zona a lago vicino all'Imbarcadero del battello
END:VEVENT
END:VCALENDAR
