BEGIN:VCALENDAR
VERSION:2.0
PRODID:-//Villago - turismo esperienziale
CALSCALE:GREGORIAN
METHOD:PUBLISH
X-WR-CALNAME:Villago - turismo esperienziale
X-ORIGINAL-URL:https://villago.it/product/lantico-convento-di-sabbioncello-di-merate-un-gioiello-incastonato-tra-preziosi-gioielli-8-2-2-2-2-2/
X-WR-CALDESC:L’ANTICO CONVENTO DI SABBIONCELLO DI MERATE, UN GIOIELLO INCASTONATO TRA PREZIOSI GIOIELLI
BEGIN:VTIMEZONE
TZID:Europe/Helsinki
END:VTIMEZONE
BEGIN:VEVENT
DTSTART;TZID=Europe/Helsinki:20260531T150000
DTEND;TZID=Europe/Helsinki:20260531T163000
DTSTAMP:20260422T043416
UID:38535-info@villago.it
SUMMARY:L’ANTICO CONVENTO DI SABBIONCELLO DI MERATE, UN GIOIELLO INCASTONATO TRA PREZIOSI GIOIELLI
DESCRIPTION:Visita guidata del convento di Santa Maria Nascente di Sabbioncello, alla scoperta della sua storia, delle sue opere d’arte e del meraviglioso contesto in cui era ed è inserito. PRENOTAZIONE OBBLIGATORIA ENTRO VENERDI' 29 MAGGIO ORE 16
URL:https://villago.it/product/lantico-convento-di-sabbioncello-di-merate-un-gioiello-incastonato-tra-preziosi-gioielli-8-2-2-2-2-2/
LOCATION:Merate Via S.Antonio da Padova 5, località Sabbioncello
END:VEVENT
END:VCALENDAR
