BEGIN:VCALENDAR
VERSION:2.0
PRODID:-//Villago - turismo esperienziale
CALSCALE:GREGORIAN
METHOD:PUBLISH
X-WR-CALNAME:Villago - turismo esperienziale
X-ORIGINAL-URL:https://villago.it/product/villa-brusati-di-barlassina-la-bella-dimora-di-campioni-olimpionici-di-famosi-canzonieri-e-registi-2-2-2-2-2/
X-WR-CALDESC:VILLA BRUSATI DI BARLASSINA, LA BELLA DIMORA DI CAMPIONI OLIMPIONICI, DI FAMOSI CANZONIERI E REGISTI&#8230;
BEGIN:VTIMEZONE
TZID:Europe/Helsinki
END:VTIMEZONE
BEGIN:VEVENT
DTSTART;TZID=Europe/Helsinki:20260524T153000
DTEND;TZID=Europe/Helsinki:20260524T164500
DTSTAMP:20260422T043412
UID:38534-info@villago.it
SUMMARY:VILLA BRUSATI DI BARLASSINA, LA BELLA DIMORA DI CAMPIONI OLIMPIONICI, DI FAMOSI CANZONIERI E REGISTI…
DESCRIPTION:PRENOTAZIONE OBBLIGATORIA ENTRO VENERDI' 22 MAGGIO ORE 16
URL:https://villago.it/product/villa-brusati-di-barlassina-la-bella-dimora-di-campioni-olimpionici-di-famosi-canzonieri-e-registi-2-2-2-2-2/
LOCATION:Barlassina Corso Milano 65
END:VEVENT
END:VCALENDAR
