BEGIN:VCALENDAR
VERSION:2.0
PRODID:-//Villago - turismo esperienziale
CALSCALE:GREGORIAN
METHOD:PUBLISH
X-WR-CALNAME:Villago - turismo esperienziale
X-ORIGINAL-URL:https://villago.it/product/un-pomeriggio-a-pontida-bg-a-casa-della-contessa-elisabetta-sottocasa-ponti-visita-esperienziale-con-aperitivo-bergamasco-6-2-2-2/
X-WR-CALDESC:UN POMERIGGIO A PONTIDA (BG) NELLA TENUTA DELLA CONTESSA ELISABETTA SOTTOCASA PONTI: VISITA ESPERIENZIALE CON MERENDA BERGAMASCA
BEGIN:VTIMEZONE
TZID:Europe/Helsinki
END:VTIMEZONE
BEGIN:VEVENT
DTSTART;TZID=Europe/Helsinki:20260426T153000
DTEND;TZID=Europe/Helsinki:20260426T171500
DTSTAMP:20260423T165556
UID:37681-info@villago.it
SUMMARY:UN POMERIGGIO A PONTIDA (BG) NELLA TENUTA DELLA CONTESSA ELISABETTA SOTTOCASA PONTI: VISITA ESPERIENZIALE CON MERENDA BERGAMASCA
DESCRIPTION:PRENOTAZIONE OBBLIGATORIA ENTRO VENERDI' 24 APRILE ORE 16
URL:https://villago.it/product/un-pomeriggio-a-pontida-bg-a-casa-della-contessa-elisabetta-sottocasa-ponti-visita-esperienziale-con-aperitivo-bergamasco-6-2-2-2/
LOCATION:Ritrovo in Via Villa Elisa a Pontida, davanti al cancello di ingresso
END:VEVENT
END:VCALENDAR
