BEGIN:VCALENDAR
VERSION:2.0
PRODID:-//Villago - turismo esperienziale
CALSCALE:GREGORIAN
METHOD:PUBLISH
X-WR-CALNAME:Villago - turismo esperienziale
X-ORIGINAL-URL:https://villago.it/product/la-fabbrica-delle-api-e-la-nursery-delle-loro-regine-visita-laboratorio-e-degustazione-in-compagnia-di-uno-dei-100-degustatori-di-miele-in-italia-4-2-2-2-2-2-2-2-2-2-2-2-2-2/
X-WR-CALDESC:LA “FABBRICA DELLE API” E LA “NURSERY” DELLE LORO REGINE: VISITA, LABORATORIO DELLA CERA E DEGUSTAZIONE IN COMPAGNIA DI UNO DEI 100 DEGUSTATORI DI MIELE IN ITALIA
BEGIN:VTIMEZONE
TZID:Europe/Helsinki
END:VTIMEZONE
BEGIN:VEVENT
DTSTART;TZID=Europe/Helsinki:20260502T153000
DTEND;TZID=Europe/Helsinki:20260502T173000
DTSTAMP:20260422T185705
UID:37668-info@villago.it
SUMMARY:LA “FABBRICA DELLE API” E LA “NURSERY” DELLE LORO REGINE: VISITA, LABORATORIO DELLA CERA E DEGUSTAZIONE IN COMPAGNIA DI UNO DEI 100 DEGUSTATORI DI MIELE IN ITALIA
DESCRIPTION:PRENOTAZIONE OBBLIGATORIA ENTRO VENERDI' 1 MAGGIO 27 MARZO ORE 16
URL:https://villago.it/product/la-fabbrica-delle-api-e-la-nursery-delle-loro-regine-visita-laboratorio-e-degustazione-in-compagnia-di-uno-dei-100-degustatori-di-miele-in-italia-4-2-2-2-2-2-2-2-2-2-2-2-2-2/
LOCATION:Via San Martino 125 a Carugo (CO)
END:VEVENT
END:VCALENDAR
